BEGIN:VCALENDAR
VERSION:2.0
PRODID:-//UPIKE//NONSGML v1.0//EN
CALSCALE:GREGORIAN
METHOD:PUBLISH
BEGIN:VEVENT
UID:803234-0
SUMMARY:Front Porch Panel: The Power of Appalachian Women
DTSTART:20251017T130000Z
DTEND:20251017T140000Z
DTSTAMP:20251007T195816Z
LAST-MODIFIED:20251007T195911Z
SEQUENCE:0
DESCRIPTION:\nFriday\, October 17\n\n\n\n1 p.m.\n\n\n\nBooth Auditorium\, Record Memorial Building\n\n\n\nPart of the Mountain Grrl Experience\n\n\n\nA panel discussion featuring Danna Barnett\, Brandis Bradley\, Ashley Tackett Lafferty\, Hayley Trimble\, M.D. and Judi Patton\n\n\n\n\n
END:VEVENT
END:VCALENDAR