BEGIN:VCALENDAR
VERSION:2.0
PRODID:-//UPIKE//NONSGML v1.0//EN
CALSCALE:GREGORIAN
METHOD:PUBLISH
BEGIN:VEVENT
UID:803233-0
SUMMARY:CCOB Leadership Series with David B. Short
DTSTART:20251015T100000Z
DTEND:20251015T110000Z
DTSTAMP:20251007T194410Z
LAST-MODIFIED:20251007T194418Z
SEQUENCE:0
DESCRIPTION:\nThe Road to Financial Freedom: 25 Years of Financial Planning and Career Growth\n\n\n\nSpeaker -- David B. Short\, CFP\, CFS\, Managing Partner and Financial Advisor for Investments & Financial Planning\, LLC\n\n\n\nWednesday\, October 15\n\n\n\n10:00 am\n\n\n\nBooth Auditorium\n\n\n\nRecord Memorial Building\n
END:VEVENT
END:VCALENDAR