BEGIN:VCALENDAR
VERSION:2.0
PRODID:-//UPIKE//NONSGML v1.0//EN
CALSCALE:GREGORIAN
METHOD:PUBLISH
BEGIN:VEVENT
UID:801572-0
SUMMARY:15th Annual Communication Alumni Panel
DTSTART:20251015T130000Z
DTEND:20251015T140000Z
DTSTAMP:20250908T201211Z
LAST-MODIFIED:20250908T201218Z
SEQUENCE:0
DESCRIPTION:\nWhat Can You Do With A Communication Degree?\n\n\n\nJoin the discussion in Armington 417\n
END:VEVENT
END:VCALENDAR