BEGIN:VCALENDAR
VERSION:2.0
PRODID:-//UPIKE//NONSGML v1.0//EN
CALSCALE:GREGORIAN
METHOD:PUBLISH
BEGIN:VEVENT
UID:801228-0
SUMMARY:Bear Soccer & Halftime Contests
DTSTART:20251015T170000Z
DTEND:20251015T213000Z
DTSTAMP:20250904T163424Z
LAST-MODIFIED:20250908T160139Z
SEQUENCE:0
DESCRIPTION:\nSoccer Games @ Bob Amos Complex\n\n\n\nWomen's at 5 p.m. \n\n\n\nMen's at 7:30 p.m.\n\n\n\nStudent Halftime Contests\n\n\n\n\n\n\n\n\n
END:VEVENT
END:VCALENDAR