BEGIN:VCALENDAR
VERSION:2.0
PRODID:-//UPIKE//NONSGML v1.0//EN
CALSCALE:GREGORIAN
METHOD:PUBLISH
BEGIN:VEVENT
UID:800998-0
SUMMARY:Concert Band
DTSTART:20251019T150000Z
DTEND:20251019T170000Z
DTSTAMP:20250902T141355Z
LAST-MODIFIED:20250923T195101Z
SEQUENCE:0
DESCRIPTION:\nBooth Auditorium\n\n\n\n\n
END:VEVENT
END:VCALENDAR