BEGIN:VCALENDAR
VERSION:2.0
PRODID:-//UPIKE//NONSGML v1.0//EN
CALSCALE:GREGORIAN
METHOD:PUBLISH
BEGIN:VEVENT
UID:800378-0
SUMMARY:The Climb
DTSTART:20250822T193000Z
DTEND:20250822T203000Z
DTSTAMP:20250821T143245Z
LAST-MODIFIED:20250826T202339Z
SEQUENCE:0
DESCRIPTION:\nJoin us on Friday (Aug. 20) at the top of The 99 to celebrate our first-year students!\n\n\n\nThe Climb will start at 8 p.m. You can also watch it live on Facebook!\n\n\n\n\n
END:VEVENT
END:VCALENDAR