BEGIN:VCALENDAR
VERSION:2.0
PRODID:-//UPIKE//NONSGML v1.0//EN
CALSCALE:GREGORIAN
METHOD:PUBLISH
BEGIN:VEVENT
UID:800019-0
SUMMARY:Martin Eye Clinic Reopening Reception
DTSTART:20250908T130000Z
DTEND:20250908T140000Z
DTSTAMP:20250814T190853Z
LAST-MODIFIED:20250904T172858Z
SEQUENCE:0
DESCRIPTION:
END:VEVENT
END:VCALENDAR