BEGIN:VCALENDAR
VERSION:2.0
PRODID:-//UPIKE//NONSGML v1.0//EN
CALSCALE:GREGORIAN
METHOD:PUBLISH
BEGIN:VEVENT
UID:7977-0
SUMMARY:Good Friday – No Classes
DTSTART:20190419T000000Z
DTEND:20190419T235900Z
DTSTAMP:20190319T114252Z
LAST-MODIFIED:20190410T170608Z
SEQUENCE:0
DESCRIPTION:\nUniversity of Pikeville Holiday Observance - No Classes.\n
END:VEVENT
END:VCALENDAR