BEGIN:VCALENDAR
VERSION:2.0
PRODID:-//UPIKE//NONSGML v1.0//EN
CALSCALE:GREGORIAN
METHOD:PUBLISH
BEGIN:VEVENT
UID:793770-0
SUMMARY:Concert Band & Jazz Band Concert
DTSTART:20250406T150000Z
DTEND:20250406T180000Z
DTSTAMP:20250327T205324Z
LAST-MODIFIED:20250327T205416Z
SEQUENCE:0
DESCRIPTION:
END:VEVENT
END:VCALENDAR