BEGIN:VCALENDAR
VERSION:2.0
PRODID:-//UPIKE//NONSGML v1.0//EN
CALSCALE:GREGORIAN
METHOD:PUBLISH
BEGIN:VEVENT
UID:788114-0
SUMMARY:Women’s Virtual Roundtable
DTSTART:20250127T163000Z
DTEND:20250127T173000Z
DTSTAMP:20250122T160403Z
LAST-MODIFIED:20250122T160404Z
SEQUENCE:0
DESCRIPTION:\nPanel includes:Tia EdwardsCo-FounderFresh Bourbon - Lexington\, KY\n\n\n\nDr. Joretta NelsonVice Chairman and FounderCredo Higher Education Consulting\n\n\n\nJane Mosbacher MorrisFounderTO THE MARKET\n\n\n\n\n
END:VEVENT
END:VCALENDAR