BEGIN:VCALENDAR
VERSION:2.0
PRODID:-//UPIKE//NONSGML v1.0//EN
CALSCALE:GREGORIAN
METHOD:PUBLISH
BEGIN:VEVENT
UID:783730-0
SUMMARY:Giving Tuesday 2024
DTSTART:20241203T000000Z
DTEND:20241203T235900Z
DTSTAMP:20241112T160118Z
LAST-MODIFIED:20241112T160120Z
SEQUENCE:0
DESCRIPTION:\n\n\n\n\n\n\n\n
END:VEVENT
END:VCALENDAR