BEGIN:VCALENDAR
VERSION:2.0
PRODID:-//UPIKE//NONSGML v1.0//EN
CALSCALE:GREGORIAN
METHOD:PUBLISH
BEGIN:VEVENT
UID:781372-0
SUMMARY:10- and 25-Year Class Reunion Farewell Breakfast
DTSTART:20241005T080000Z
DTEND:20241005T100000Z
DTSTAMP:20240912T152429Z
LAST-MODIFIED:20240912T152431Z
SEQUENCE:0
DESCRIPTION:\nRSVP at the link provided\n
END:VEVENT
END:VCALENDAR