BEGIN:VCALENDAR
VERSION:2.0
PRODID:-//UPIKE//NONSGML v1.0//EN
CALSCALE:GREGORIAN
METHOD:PUBLISH
BEGIN:VEVENT
UID:765460-0
SUMMARY:Humanities on the Hill
DTSTART:20231031T090000Z
DTEND:20231031T140000Z
DTSTAMP:20231029T013055Z
LAST-MODIFIED:20240108T174407Z
SEQUENCE:0
DESCRIPTION:\nOctober 31st\, HPE 7th Floor - Hands on Activities\, Performances\, Games\, SWAG and Prizes\n\n\n\nLearn about programs in the humanities!\n
END:VEVENT
END:VCALENDAR