BEGIN:VCALENDAR
VERSION:2.0
PRODID:-//UPIKE//NONSGML v1.0//EN
CALSCALE:GREGORIAN
METHOD:PUBLISH
BEGIN:VEVENT
UID:764558-0
SUMMARY:Homecoming 23 – Pep Rally
DTSTART:20231012T190000Z
DTEND:20231012T210000Z
DTSTAMP:20231006T152357Z
LAST-MODIFIED:20231006T152358Z
SEQUENCE:0
DESCRIPTION:\nArena Main Street Plaza Stage - Cooper Greer - Country Band will be performing after the Pep rally\n
END:VEVENT
END:VCALENDAR