BEGIN:VCALENDAR
VERSION:2.0
PRODID:-//UPIKE//NONSGML v1.0//EN
CALSCALE:GREGORIAN
METHOD:PUBLISH
BEGIN:VEVENT
UID:764555-0
SUMMARY:Homecoming 23 – Trivia Night
DTSTART:20231011T200000Z
DTEND:20231011T210000Z
DTSTAMP:20231006T152017Z
LAST-MODIFIED:20231006T152017Z
SEQUENCE:0
DESCRIPTION:\nBuffalo Wild Wings - Oct 11\, 2023 - 8:00p.m.\n
END:VEVENT
END:VCALENDAR