BEGIN:VCALENDAR
VERSION:2.0
PRODID:-//UPIKE//NONSGML v1.0//EN
CALSCALE:GREGORIAN
METHOD:PUBLISH
BEGIN:VEVENT
UID:763941-0
SUMMARY:Every Brilliant Thing
DTSTART:20230925T190000Z
DTEND:20230925T210000Z
DTSTAMP:20230922T160238Z
LAST-MODIFIED:20230922T160240Z
SEQUENCE:0
DESCRIPTION:\nSeptember is suicide prevention month. CNHS and CAS are sponsoring a showing of "Every Brilliant Thing" free for students.\n\n\n\nChrisman Auditorium - Monday\, Sept 25 at 7 pm. \n\n\n\nPerformance by the Appalachian Center for the Arts Vitality Theatre Company.\n
END:VEVENT
END:VCALENDAR