BEGIN:VCALENDAR
VERSION:2.0
PRODID:-//UPIKE//NONSGML v1.0//EN
CALSCALE:GREGORIAN
METHOD:PUBLISH
BEGIN:VEVENT
UID:762984-0
SUMMARY:KYCOM AMWA – Dinner with Doctors
DTSTART:20230912T173000Z
DTEND:20230912T200000Z
DTSTAMP:20230830T202634Z
LAST-MODIFIED:20230830T202635Z
SEQUENCE:0
DESCRIPTION:\nThe KYCOM American Medical Women's Association (AMWA) is hosting a Dinner with Doctors to celebrate women in medicine! The event will be held on Thursday\, September 21\, from 5:30 - 8pm\, on the 7th Floor of the Health Professions Education Building. Please RSVP to the AMWA President\, Taylor Conrad by September 12 at taylorconrad@upike.edu.\n
END:VEVENT
END:VCALENDAR