BEGIN:VCALENDAR
VERSION:2.0
PRODID:-//UPIKE//NONSGML v1.0//EN
CALSCALE:GREGORIAN
METHOD:PUBLISH
BEGIN:VEVENT
UID:758130-0
SUMMARY:CCOB Leadership Series – Matthew DeBlauw
DTSTART:20230419T110000Z
DTEND:20230419T120000Z
DTSTAMP:20230412T135727Z
LAST-MODIFIED:20230412T135738Z
SEQUENCE:0
DESCRIPTION:\n Wednesday\, April 19   11:00 – 12 noon\n\n\n\nBooth Auditorium\n\n\n\nMatthew DeBlauw\, FBI Special Agent \, UPIKE Alumnus - 2008\n\n\n\nThe Value of a College Degree\, How Pikeville College(UPIKE) Shaped My Career and Life”\n
END:VEVENT
END:VCALENDAR