BEGIN:VCALENDAR
VERSION:2.0
PRODID:-//UPIKE//NONSGML v1.0//EN
CALSCALE:GREGORIAN
METHOD:PUBLISH
BEGIN:VEVENT
UID:755930-0
SUMMARY:Horror Noire: The History of Black Horror
DTSTART:20230228T190000Z
DTEND:20230228T200000Z
DTSTAMP:20230130T211109Z
LAST-MODIFIED:20230201T190746Z
SEQUENCE:0
LOCATION:UPIKE Chrisman Auditorium
DESCRIPTION:\nTuesday\, February 28\n\n\n\n7 p.m.\n\n\n\nChrisman Auditorium\n
END:VEVENT
END:VCALENDAR