BEGIN:VCALENDAR
VERSION:2.0
PRODID:-//UPIKE//NONSGML v1.0//EN
CALSCALE:GREGORIAN
METHOD:PUBLISH
BEGIN:VEVENT
UID:755920-0
SUMMARY:Movie Night: “Glory Road”
DTSTART:20230217T190000Z
DTEND:20230217T210000Z
DTSTAMP:20230130T205104Z
LAST-MODIFIED:20230213T185627Z
SEQUENCE:0
LOCATION:UPIKE Chrisman Auditorium
DESCRIPTION:\nFree food and t-shirt giveaway! First come\, first serve.\n\n\n\nChrisman Auditorium\n
END:VEVENT
END:VCALENDAR