BEGIN:VCALENDAR
VERSION:2.0
PRODID:-//UPIKE//NONSGML v1.0//EN
CALSCALE:GREGORIAN
METHOD:PUBLISH
BEGIN:VEVENT
UID:755000-0
SUMMARY:Whitesburg Alumni Event 
DTSTART:20230328T183000Z
DTEND:20230328T200000Z
DTSTAMP:20230103T133209Z
LAST-MODIFIED:20230103T133210Z
SEQUENCE:0
DESCRIPTION:\nTuesday\, March 28\, 2023 (6:30 pm)  Pine Mountain Grill\n
END:VEVENT
END:VCALENDAR