BEGIN:VCALENDAR
VERSION:2.0
PRODID:-//UPIKE//NONSGML v1.0//EN
CALSCALE:GREGORIAN
METHOD:PUBLISH
BEGIN:VEVENT
UID:754877-0
SUMMARY:12/22 [N] University of Pikeville Women's Bowling vs Roto Grip Keystone Quaker Classic
DTSTART:20221222T000000Z
DTEND:20221222T080000Z
DTSTAMP:20221222T215411Z
LAST-MODIFIED:20221222T215411Z
SEQUENCE:0
LOCATION:Allentown, PA
DESCRIPTION:[N] University of Pikeville Women's Bowling vs Roto Grip Keystone Quaker Classicn 1st of 9n https://www.upikebears.com/calendar.aspx?id=7689
END:VEVENT
END:VCALENDAR