BEGIN:VCALENDAR
VERSION:2.0
PRODID:-//UPIKE//NONSGML v1.0//EN
CALSCALE:GREGORIAN
METHOD:PUBLISH
BEGIN:VEVENT
UID:753920-0
SUMMARY:3/14 University of Pikeville Softball vs Kentucky Christian University
DTSTART:20230314T000000Z
DTEND:20230314T060000Z
DTSTAMP:20221115T185326Z
LAST-MODIFIED:20221115T185326Z
SEQUENCE:0
LOCATION:Grayson, Ky.
DESCRIPTION:University of Pikeville Softball vs Kentucky Christian Universityn https://www.upikebears.com/calendar.aspx?id=7185
END:VEVENT
END:VCALENDAR