BEGIN:VCALENDAR
VERSION:2.0
PRODID:-//UPIKE//NONSGML v1.0//EN
CALSCALE:GREGORIAN
METHOD:PUBLISH
BEGIN:VEVENT
UID:753806-0
SUMMARY:3/24 University of Pikeville Softball vs Campbellsville University
DTSTART:20230324T000000Z
DTEND:20230324T060000Z
DTSTAMP:20221109T205345Z
LAST-MODIFIED:20221109T205345Z
SEQUENCE:0
DESCRIPTION:University of Pikeville Softball vs Campbellsville Universityn https://www.upikebears.com/calendar.aspx?id=7158
END:VEVENT
END:VCALENDAR