BEGIN:VCALENDAR
VERSION:2.0
PRODID:-//UPIKE//NONSGML v1.0//EN
CALSCALE:GREGORIAN
METHOD:PUBLISH
BEGIN:VEVENT
UID:753770-0
SUMMARY:3/5 University of Pikeville Softball vs TBA
DTSTART:20230305T000000Z
DTEND:20230305T070000Z
DTSTAMP:20221109T205328Z
LAST-MODIFIED:20221109T205328Z
SEQUENCE:0
DESCRIPTION:University of Pikeville Softball vs TBAn https://www.upikebears.com/calendar.aspx?id=7146
END:VEVENT
END:VCALENDAR