BEGIN:VCALENDAR
VERSION:2.0
PRODID:-//UPIKE//NONSGML v1.0//EN
CALSCALE:GREGORIAN
METHOD:PUBLISH
BEGIN:VEVENT
UID:753760-0
SUMMARY:Bluegrass Ensemble and Rock Band Concert
DTSTART:20221117T180000Z
DTEND:20221117T200000Z
DTSTAMP:20221109T161444Z
LAST-MODIFIED:20221109T161446Z
SEQUENCE:0
LOCATION:UPIKE Upper Campus
DESCRIPTION:\nThursday November 17th at 6:00p.m. \n\n\n\nBooth Auditorium - Record Memorial\n
END:VEVENT
END:VCALENDAR