BEGIN:VCALENDAR
VERSION:2.0
PRODID:-//UPIKE//NONSGML v1.0//EN
CALSCALE:GREGORIAN
METHOD:PUBLISH
BEGIN:VEVENT
UID:753628-0
SUMMARY:3/21 University of Pikeville Baseball vs Midway University
DTSTART:20230321T000000Z
DTEND:20230321T070000Z
DTSTAMP:20221108T205346Z
LAST-MODIFIED:20221108T205346Z
SEQUENCE:0
DESCRIPTION:University of Pikeville Baseball vs Midway UniversitynStreaming Video: https://upikebears.com/sports/2020/10/14/upike-sports-network.aspxn https://www.upikebears.com/calendar.aspx?id=7123
END:VEVENT
END:VCALENDAR