BEGIN:VCALENDAR
VERSION:2.0
PRODID:-//UPIKE//NONSGML v1.0//EN
CALSCALE:GREGORIAN
METHOD:PUBLISH
BEGIN:VEVENT
UID:753580-0
SUMMARY:2/25 3:00 PM University of Pikeville Baseball at Cumberland University
DTSTART:20230225T200000Z
DTEND:20230225T230000Z
DTSTAMP:20221108T205325Z
LAST-MODIFIED:20221108T205325Z
SEQUENCE:0
DESCRIPTION:University of Pikeville Baseball at Cumberland Universityn https://www.upikebears.com/calendar.aspx?id=7109
END:VEVENT
END:VCALENDAR