BEGIN:VCALENDAR
VERSION:2.0
PRODID:-//UPIKE//NONSGML v1.0//EN
CALSCALE:GREGORIAN
METHOD:PUBLISH
BEGIN:VEVENT
UID:752520-0
SUMMARY:2/17 University of Pikeville Dance at Mid-South Conference Cheer and Dance Competition
DTSTART:20230217T000000Z
DTEND:20230218T045900Z
DTSTAMP:20221012T145327Z
LAST-MODIFIED:20221012T145327Z
SEQUENCE:0
DESCRIPTION:University of Pikeville Dance at Mid-South Conference Cheer and Dance Competitionn https://www.upikebears.com/calendar.aspx?id=7078
END:VEVENT
END:VCALENDAR