BEGIN:VCALENDAR
VERSION:2.0
PRODID:-//UPIKE//NONSGML v1.0//EN
CALSCALE:GREGORIAN
METHOD:PUBLISH
BEGIN:VEVENT
UID:752515-0
SUMMARY:3/1 University of Pikeville Men's Swimming  NAIA National Championships
DTSTART:20230301T000000Z
DTEND:20230304T045900Z
DTSTAMP:20221012T145325Z
LAST-MODIFIED:20221012T145325Z
SEQUENCE:0
DESCRIPTION:University of Pikeville Men's Swimming  NAIA National Championshipsn https://www.upikebears.com/calendar.aspx?id=7080
END:VEVENT
END:VCALENDAR