BEGIN:VCALENDAR
VERSION:2.0
PRODID:-//UPIKE//NONSGML v1.0//EN
CALSCALE:GREGORIAN
METHOD:PUBLISH
BEGIN:VEVENT
UID:752513-0
SUMMARY:1/27 University of Pikeville Dance vs Patriots Invite
DTSTART:20230127T000000Z
DTEND:20230127T080000Z
DTSTAMP:20221012T145324Z
LAST-MODIFIED:20221012T145324Z
SEQUENCE:0
DESCRIPTION:University of Pikeville Dance vs Patriots Inviten https://www.upikebears.com/calendar.aspx?id=7077
END:VEVENT
END:VCALENDAR