BEGIN:VCALENDAR
VERSION:2.0
PRODID:-//UPIKE//NONSGML v1.0//EN
CALSCALE:GREGORIAN
METHOD:PUBLISH
BEGIN:VEVENT
UID:752507-0
SUMMARY:1/21 1:00 PM University of Pikeville Men's Swimming  Lindsey Wilson College (Ky.)
DTSTART:20230121T180000Z
DTEND:20230121T210000Z
DTSTAMP:20221012T145321Z
LAST-MODIFIED:20221012T145321Z
SEQUENCE:0
DESCRIPTION:University of Pikeville Men's Swimming  Lindsey Wilson College (Ky.)n https://www.upikebears.com/calendar.aspx?id=7068
END:VEVENT
END:VCALENDAR