BEGIN:VCALENDAR
VERSION:2.0
PRODID:-//UPIKE//NONSGML v1.0//EN
CALSCALE:GREGORIAN
METHOD:PUBLISH
BEGIN:VEVENT
UID:752347-0
SUMMARY:2/17 University of Pikeville Women's Track and Field  Mid-South Conference Indoor Championships
DTSTART:20230217T000000Z
DTEND:20230217T080000Z
DTSTAMP:20221006T165328Z
LAST-MODIFIED:20221006T165328Z
SEQUENCE:0
DESCRIPTION:University of Pikeville Women's Track and Field  Mid-South Conference Indoor Championshipsn https://www.upikebears.com/calendar.aspx?id=7062
END:VEVENT
END:VCALENDAR