BEGIN:VCALENDAR
VERSION:2.0
PRODID:-//UPIKE//NONSGML v1.0//EN
CALSCALE:GREGORIAN
METHOD:PUBLISH
BEGIN:VEVENT
UID:752342-0
SUMMARY:1/21 University of Pikeville Women's Track and Field  SPIRE Midwest Open
DTSTART:20230121T000000Z
DTEND:20230121T080000Z
DTSTAMP:20221006T165325Z
LAST-MODIFIED:20221006T165325Z
SEQUENCE:0
DESCRIPTION:University of Pikeville Women's Track and Field  SPIRE Midwest Openn https://www.upikebears.com/calendar.aspx?id=7059
END:VEVENT
END:VCALENDAR