BEGIN:VCALENDAR
VERSION:2.0
PRODID:-//UPIKE//NONSGML v1.0//EN
CALSCALE:GREGORIAN
METHOD:PUBLISH
BEGIN:VEVENT
UID:752332-0
SUMMARY:3/2 University of Pikeville Men's Track and Field  NAIA National Championship
DTSTART:20230302T000000Z
DTEND:20230304T045900Z
DTSTAMP:20221006T145331Z
LAST-MODIFIED:20221006T145331Z
SEQUENCE:0
DESCRIPTION:University of Pikeville Men's Track and Field  NAIA National Championshipn https://www.upikebears.com/calendar.aspx?id=7054
END:VEVENT
END:VCALENDAR