BEGIN:VCALENDAR
VERSION:2.0
PRODID:-//UPIKE//NONSGML v1.0//EN
CALSCALE:GREGORIAN
METHOD:PUBLISH
BEGIN:VEVENT
UID:752327-0
SUMMARY:12/9 University of Pikeville Men's Track and Field  Campbellsville Indoor Meet
DTSTART:20221209T000000Z
DTEND:20221209T080000Z
DTSTAMP:20221006T145329Z
LAST-MODIFIED:20221006T145329Z
SEQUENCE:0
DESCRIPTION:University of Pikeville Men's Track and Field  Campbellsville Indoor Meetn https://www.upikebears.com/calendar.aspx?id=7047
END:VEVENT
END:VCALENDAR