BEGIN:VCALENDAR
VERSION:2.0
PRODID:-//UPIKE//NONSGML v1.0//EN
CALSCALE:GREGORIAN
METHOD:PUBLISH
BEGIN:VEVENT
UID:752165-0
SUMMARY:11/2 7:00 PM University of Pikeville Women's Basketball at University of Kentucky – Exhibition
DTSTART:20221102T230000Z
DTEND:20221103T010000Z
DTSTAMP:20220929T205410Z
LAST-MODIFIED:20220929T205410Z
SEQUENCE:0
DESCRIPTION:University of Pikeville Women's Basketball at University of Kentucky - Exhibitionn https://www.upikebears.com/calendar.aspx?id=7017
END:VEVENT
END:VCALENDAR