BEGIN:VCALENDAR
VERSION:2.0
PRODID:-//UPIKE//NONSGML v1.0//EN
CALSCALE:GREGORIAN
METHOD:PUBLISH
BEGIN:VEVENT
UID:752161-0
SUMMARY:11/22 5:30 PM University of Pikeville Women's Basketball vs Shawnee State University
DTSTART:20221122T223000Z
DTEND:20221123T003000Z
DTSTAMP:20220929T205408Z
LAST-MODIFIED:20220929T205408Z
SEQUENCE:0
LOCATION:Pikeville, KY, Appalachian Wireless Arena
DESCRIPTION:University of Pikeville Women's Basketball vs Shawnee State UniversitynStreaming Video: https://upikebears.com/sports/2020/10/14/upike-sports-network.aspxn https://www.upikebears.com/calendar.aspx?id=7023
END:VEVENT
END:VCALENDAR