BEGIN:VCALENDAR
VERSION:2.0
PRODID:-//UPIKE//NONSGML v1.0//EN
CALSCALE:GREGORIAN
METHOD:PUBLISH
BEGIN:VEVENT
UID:752141-0
SUMMARY:12/17 4:00 PM University of Pikeville Women's Basketball at Warner University
DTSTART:20221217T210000Z
DTEND:20221217T230000Z
DTSTAMP:20220929T205357Z
LAST-MODIFIED:20220929T205357Z
SEQUENCE:0
DESCRIPTION:University of Pikeville Women's Basketball at Warner Universityn https://www.upikebears.com/calendar.aspx?id=7029
END:VEVENT
END:VCALENDAR