BEGIN:VCALENDAR
VERSION:2.0
PRODID:-//UPIKE//NONSGML v1.0//EN
CALSCALE:GREGORIAN
METHOD:PUBLISH
BEGIN:VEVENT
UID:751964-0
SUMMARY:Academy 2022 – KYCO Alumni Event 
DTSTART:20221028T180000Z
DTEND:20221028T193000Z
DTSTAMP:20220926T203418Z
LAST-MODIFIED:20220926T203504Z
SEQUENCE:0
DESCRIPTION:\nAcademy 2022 – San Diego\, CA – KYCO Alumni Event Friday\, Oct. 28  - 6pm-7:30pm Pacific Time\n\n\n\nHilton San Diego BayfrontSapphire 410A1 Park Boulevard\, San Diego\, CA 92101\n
END:VEVENT
END:VCALENDAR