BEGIN:VCALENDAR
VERSION:2.0
PRODID:-//UPIKE//NONSGML v1.0//EN
CALSCALE:GREGORIAN
METHOD:PUBLISH
BEGIN:VEVENT
UID:751908-0
SUMMARY:1/19 7:30 PM University of Pikeville Men's Basketball vs Bethel University
DTSTART:20230120T003000Z
DTEND:20230120T023000Z
DTSTAMP:20220921T225346Z
LAST-MODIFIED:20220921T225346Z
SEQUENCE:0
LOCATION:Pikeville, KY, Appalachian Wireless Arena
DESCRIPTION:University of Pikeville Men's Basketball vs Bethel UniversitynStreaming Video: https://upikebears.com/sports/2020/10/14/upike-sports-network.aspxn https://www.upikebears.com/calendar.aspx?id=6978
END:VEVENT
END:VCALENDAR