BEGIN:VCALENDAR
VERSION:2.0
PRODID:-//UPIKE//NONSGML v1.0//EN
CALSCALE:GREGORIAN
METHOD:PUBLISH
BEGIN:VEVENT
UID:751901-0
SUMMARY:2/21 University of Pikeville Men's Basketball vs MSC Opening Round (TBA)
DTSTART:20230221T000000Z
DTEND:20230221T070000Z
DTSTAMP:20220921T225343Z
LAST-MODIFIED:20220921T225343Z
SEQUENCE:0
LOCATION:TBA
DESCRIPTION:University of Pikeville Men's Basketball vs MSC Opening Round (TBA)n https://www.upikebears.com/calendar.aspx?id=6987
END:VEVENT
END:VCALENDAR