BEGIN:VCALENDAR
VERSION:2.0
PRODID:-//UPIKE//NONSGML v1.0//EN
CALSCALE:GREGORIAN
METHOD:PUBLISH
BEGIN:VEVENT
UID:751898-0
SUMMARY:2/16 7:30 PM University of Pikeville Men's Basketball at Wilberforce University
DTSTART:20230217T003000Z
DTEND:20230217T023000Z
DTSTAMP:20220921T225342Z
LAST-MODIFIED:20220921T225342Z
SEQUENCE:0
DESCRIPTION:University of Pikeville Men's Basketball at Wilberforce Universityn https://www.upikebears.com/calendar.aspx?id=6985
END:VEVENT
END:VCALENDAR