BEGIN:VCALENDAR
VERSION:2.0
PRODID:-//UPIKE//NONSGML v1.0//EN
CALSCALE:GREGORIAN
METHOD:PUBLISH
BEGIN:VEVENT
UID:751896-0
SUMMARY:2/25 University of Pikeville Men's Basketball vs TBA
DTSTART:20230225T000000Z
DTEND:20230225T070000Z
DTSTAMP:20220921T225341Z
LAST-MODIFIED:20220921T225341Z
SEQUENCE:0
DESCRIPTION:University of Pikeville Men's Basketball vs TBAn https://www.upikebears.com/calendar.aspx?id=6988
END:VEVENT
END:VCALENDAR