BEGIN:VCALENDAR
VERSION:2.0
PRODID:-//UPIKE//NONSGML v1.0//EN
CALSCALE:GREGORIAN
METHOD:PUBLISH
BEGIN:VEVENT
UID:751885-0
SUMMARY:11/17 7:30 PM University of Pikeville Men's Basketball at Freed Hardeman University
DTSTART:20221118T003000Z
DTEND:20221118T023000Z
DTSTAMP:20220921T225336Z
LAST-MODIFIED:20220921T225336Z
SEQUENCE:0
DESCRIPTION:University of Pikeville Men's Basketball at Freed Hardeman Universityn https://www.upikebears.com/calendar.aspx?id=6962
END:VEVENT
END:VCALENDAR