BEGIN:VCALENDAR
VERSION:2.0
PRODID:-//UPIKE//NONSGML v1.0//EN
CALSCALE:GREGORIAN
METHOD:PUBLISH
BEGIN:VEVENT
UID:751727-0
SUMMARY:1/20 University of Pikeville Archery  MSC Indoor Championships
DTSTART:20230120T000000Z
DTEND:20230122T045900Z
DTSTAMP:20220919T175323Z
LAST-MODIFIED:20220919T175323Z
SEQUENCE:0
DESCRIPTION:University of Pikeville Archery  MSC Indoor Championshipsn https://www.upikebears.com/calendar.aspx?id=7009
END:VEVENT
END:VCALENDAR