BEGIN:VCALENDAR
VERSION:2.0
PRODID:-//UPIKE//NONSGML v1.0//EN
CALSCALE:GREGORIAN
METHOD:PUBLISH
BEGIN:VEVENT
UID:751608-0
SUMMARY:11/5 University of Pikeville Women's Bowling vs Bowlero Southern Collegiate
DTSTART:20221105T000000Z
DTEND:20221106T035900Z
DTSTAMP:20220916T145344Z
LAST-MODIFIED:20220916T145344Z
SEQUENCE:0
DESCRIPTION:University of Pikeville Women's Bowling vs Bowlero Southern Collegiaten https://www.upikebears.com/calendar.aspx?id=6940
END:VEVENT
END:VCALENDAR