BEGIN:VCALENDAR
VERSION:2.0
PRODID:-//UPIKE//NONSGML v1.0//EN
CALSCALE:GREGORIAN
METHOD:PUBLISH
BEGIN:VEVENT
UID:751260-0
SUMMARY:Paws in the Park
DTSTART:20230411T170000Z
DTEND:20230411T190000Z
DTSTAMP:20220906T130330Z
LAST-MODIFIED:20230103T133240Z
SEQUENCE:0
DESCRIPTION:\nTuesday\, April 11\, 2023 - Paws in the Park Pikeville City Park\, Pikeville\, KY UPIKE Alumni Association sponsored event.\n
END:VEVENT
END:VCALENDAR