BEGIN:VCALENDAR
VERSION:2.0
PRODID:-//UPIKE//NONSGML v1.0//EN
CALSCALE:GREGORIAN
METHOD:PUBLISH
BEGIN:VEVENT
UID:751223-0
SUMMARY:11/5 University of Pikeville Women's Cross Country vs Day 2 – Mid-South Conference Tournament
DTSTART:20221105T000000Z
DTEND:20221105T070000Z
DTSTAMP:20220901T215329Z
LAST-MODIFIED:20220901T215329Z
SEQUENCE:0
DESCRIPTION:University of Pikeville Women's Cross Country vs Day 2 - Mid-South Conference Tournamentn https://www.upikebears.com/calendar.aspx?id=6926
END:VEVENT
END:VCALENDAR