BEGIN:VCALENDAR
VERSION:2.0
PRODID:-//UPIKE//NONSGML v1.0//EN
CALSCALE:GREGORIAN
METHOD:PUBLISH
BEGIN:VEVENT
UID:751211-0
SUMMARY:10/28 5:15 PM University of Pikeville Women's Cross Country vs Rio Grande University Invitational
DTSTART:20221028T211500Z
DTEND:20221029T001500Z
DTSTAMP:20220901T215324Z
LAST-MODIFIED:20220901T215324Z
SEQUENCE:0
DESCRIPTION:University of Pikeville Women's Cross Country vs Rio Grande University Invitationaln https://www.upikebears.com/calendar.aspx?id=6924
END:VEVENT
END:VCALENDAR